BEGIN:VCALENDAR
VERSION:2.0
PRODID:-//Info Security Calendar - ECPv5.16.4//NONSGML v1.0//EN
CALSCALE:GREGORIAN
METHOD:PUBLISH
X-WR-CALNAME:Info Security Calendar
X-ORIGINAL-URL:https://infosecuritycalendar.com
X-WR-CALDESC:Events for Info Security Calendar
BEGIN:VTIMEZONE
TZID:UTC
BEGIN:STANDARD
TZOFFSETFROM:+0000
TZOFFSETTO:+0000
TZNAME:UTC
DTSTART:20200101T000000
END:STANDARD
END:VTIMEZONE
BEGIN:VEVENT
DTSTART;VALUE=DATE:20200327
DTEND;VALUE=DATE:20200330
DTSTAMP:20260419T192907
CREATED:20200122T095853Z
LAST-MODIFIED:20200122T095922Z
UID:3363-1585267200-1585526399@infosecuritycalendar.com
SUMMARY:WOPR Summit
DESCRIPTION:WOPR Summit is an immersive hacking conference focused on hardware\, software\, and wireless technologies. \nParticipants have the option to attend hands-on learning experiences contests and workshops. Participants are encouraged to share their knowledge through demo sessions and talks. One goal of this summit is to increase the technical skills of the community and\, in doing so\, make our world a safer and better place.
URL:https://infosecuritycalendar.com/event/wopr-summit/
LOCATION:Holiday Inn Express\, 432 Pennsylvania Ave\, Fort Washington\, PA\, 19034\, United States
CATEGORIES:Conference
ATTACH;FMTTYPE=image/jpeg:https://itcurated.com/infosecuritycalendar/wp-content/uploads/sites/33/2020/01/photo-1562724292-728c9b811d98.jpg
END:VEVENT
END:VCALENDAR