BEGIN:VCALENDAR
VERSION:2.0
PRODID:-//Info Security Calendar - ECPv5.16.4//NONSGML v1.0//EN
CALSCALE:GREGORIAN
METHOD:PUBLISH
X-WR-CALNAME:Info Security Calendar
X-ORIGINAL-URL:https://infosecuritycalendar.com
X-WR-CALDESC:Events for Info Security Calendar
BEGIN:VTIMEZONE
TZID:UTC
BEGIN:STANDARD
TZOFFSETFROM:+0000
TZOFFSETTO:+0000
TZNAME:UTC
DTSTART:20230101T000000
END:STANDARD
END:VTIMEZONE
BEGIN:VEVENT
DTSTART;TZID=UTC:20231021T080000
DTEND;TZID=UTC:20231021T163000
DTSTAMP:20260425T115618
CREATED:20230630T033856Z
LAST-MODIFIED:20230705T034544Z
UID:32895-1697875200-1697905800@infosecuritycalendar.com
SUMMARY:Threat Level Midnight - 2023 Columbus\, GA ISSA Conference
DESCRIPTION:The Information Systems Security Association is the community of choice for cyber security professionals all over the world who are dedicated to advancing individual growth\, managing technology risk\, and protecting critical information and infrastructure. \nProfessionals who have as their primary responsibility information systems security in the private or public sector\, or professionals who supply information systems security consulting services to the private or public sector; or IS Auditors\, or IS professionals who have as one of their primary responsibilities information systems security in the private or public sector; educators\, attorneys and law enforcement officers having a vested interest in information security; or professionals with primary responsibility for marketing or supplying security equipment or products.
URL:https://infosecuritycalendar.com/event/threat-level-midnight-2023-columbus-ga-issa-conference/
LOCATION:Columbus Georgia Convention & Trade Center\, 801 Front Ave\,\, Columbus\, GA\, 31901\, United States
CATEGORIES:Conference
ATTACH;FMTTYPE=image/jpeg:https://itcurated.com/infosecuritycalendar/wp-content/uploads/sites/33/2022/12/image-from-rawpixel-id-3111507-jpeg-1.jpg
END:VEVENT
END:VCALENDAR