BEGIN:VCALENDAR
VERSION:2.0
PRODID:-//Info Security Calendar - ECPv5.16.4//NONSGML v1.0//EN
CALSCALE:GREGORIAN
METHOD:PUBLISH
X-WR-CALNAME:Info Security Calendar
X-ORIGINAL-URL:https://infosecuritycalendar.com
X-WR-CALDESC:Events for Info Security Calendar
BEGIN:VTIMEZONE
TZID:UTC
BEGIN:STANDARD
TZOFFSETFROM:+0000
TZOFFSETTO:+0000
TZNAME:UTC
DTSTART:20220101T000000
END:STANDARD
END:VTIMEZONE
BEGIN:VEVENT
DTSTART;VALUE=DATE:20221027
DTEND;VALUE=DATE:20221030
DTSTAMP:20260422T130111
CREATED:20220629T032202Z
LAST-MODIFIED:20220630T033555Z
UID:31719-1666828800-1667087999@infosecuritycalendar.com
SUMMARY:The 2022 ChIPs annual Global Summit
DESCRIPTION:For the first time\, ChIPs is bringing together NextGen and Global Summit for three days of content\, learning\, and connection. The program will be held at the landmark Fairmont San Francisco. \nKeynote speaker confirmed! Long-time ChIPs member and now Director of the USPTO\, Kathi Vidal \nDid you know that the Fairmont San Francisco was built by the Fair sisters and then designed by Julia Morgan\, the first woman to be admitted to the architecture program at l’École Nationale Supérieure des Beaux-Arts in Paris and the first woman architect licensed in California. She designed many edifices for institutions serving women and girls\, including a number of YWCAs and buildings for Mills College. What a perfect place to celebrate the advancement of women in technology\, law\, and policy.
URL:https://infosecuritycalendar.com/event/the-2022-chips-annual-global-summit/
LOCATION:Fairmont San Francisco\, 950 Mason St\, San Francisco\, CA\, 94108\, United States
CATEGORIES:Conference
ATTACH;FMTTYPE=image/jpeg:https://itcurated.com/infosecuritycalendar/wp-content/uploads/sites/33/2022/06/AdobeStock_406382617.jpeg
END:VEVENT
END:VCALENDAR