BEGIN:VCALENDAR
VERSION:2.0
PRODID:-//Info Security Calendar - ECPv5.16.4//NONSGML v1.0//EN
CALSCALE:GREGORIAN
METHOD:PUBLISH
X-WR-CALNAME:Info Security Calendar
X-ORIGINAL-URL:https://infosecuritycalendar.com
X-WR-CALDESC:Events for Info Security Calendar
BEGIN:VTIMEZONE
TZID:UTC
BEGIN:STANDARD
TZOFFSETFROM:+0000
TZOFFSETTO:+0000
TZNAME:UTC
DTSTART:20180101T000000
END:STANDARD
END:VTIMEZONE
BEGIN:VEVENT
DTSTART;TZID=UTC:20181012T080000
DTEND;TZID=UTC:20181014T170000
DTSTAMP:20260425T214218
CREATED:20180911T095449Z
LAST-MODIFIED:20180911T095449Z
UID:2027-1539331200-1539536400@infosecuritycalendar.com
SUMMARY:Texas Cyber Summit
DESCRIPTION:TCS would like for everyone that attends\, no matter their level of expertise or knowledge as it relates to cyber; Is able to obtain some new knowledge\, skill\, concept or idea that they can put to use immediately. With three days of intensive training\, briefings\, hands on\, attack and defend challenges\, socializing\, recruiting and mixers you can engage as much or as little and still enjoy the Summit. \nThere are a number of other events planned\, check the website often and follow our twitter account \, and watch the schedule as new items are added daily. You have access to all this training\, the Hackers Haven\, the Capture the Flag events\, and the Recruiting Mixer for one low ticket price – Thank our Sponsors for helping us keep our ticket prices incredibly low!
URL:https://infosecuritycalendar.com/event/texas-cyber-summit/
LOCATION:Wyndham San Antonio Riverwalk\, 111 E Pecan St\, San Antonio\, TX\, 78205\, United States
CATEGORIES:Conference
ATTACH;FMTTYPE=image/jpeg:https://itcurated.com/infosecuritycalendar/wp-content/uploads/sites/33/2018/09/hero.jpg
ORGANIZER;CN="TEXAS%20CYBER%20SUMMIT":MAILTO:admin@texascyber.com
END:VEVENT
END:VCALENDAR