BEGIN:VCALENDAR
VERSION:2.0
PRODID:-//Info Security Calendar - ECPv5.16.4//NONSGML v1.0//EN
CALSCALE:GREGORIAN
METHOD:PUBLISH
X-WR-CALNAME:Info Security Calendar
X-ORIGINAL-URL:https://infosecuritycalendar.com
X-WR-CALDESC:Events for Info Security Calendar
BEGIN:VTIMEZONE
TZID:UTC
BEGIN:STANDARD
TZOFFSETFROM:+0000
TZOFFSETTO:+0000
TZNAME:UTC
DTSTART:20230101T000000
END:STANDARD
END:VTIMEZONE
BEGIN:VEVENT
DTSTART;VALUE=DATE:20230710
DTEND;VALUE=DATE:20230712
DTSTAMP:20260421T050309
CREATED:20230505T114524Z
LAST-MODIFIED:20230505T114552Z
UID:32774-1688947200-1689119999@infosecuritycalendar.com
SUMMARY:TECHSPO Silicon Valley 2023
DESCRIPTION:TECHSPO Silicon Valley is a 2-day technology expo returning July 10 – 11\, 2023 to The Westin San Francisco Airport Hotel in San Francisco\, California. TECHSPO Silicon Valley brings together developers\, brands\, marketers\, technology providers\, designers\, innovators and evangelists looking to set the pace in our advanced world of technology. \nShowcasing the next generation of technology & innovation; Internet\, Mobile\, AdTech\, MarTech & SaaS Technology\, Exhibitors have the opportunity to show off their companies to consumers\, the highest caliber investors\, hordes of press\, the most sought after talent\, and the greatest pool of tech enthusiasts looking to celebrate emerging products. Be prepared to be inspired\, amazed and educated on how these evolving technologies will impact your business for greater growth.
URL:https://infosecuritycalendar.com/event/techspo-silicon-valley-2023/
LOCATION:The Westin San Francisco Airport Hotel\, 1 Old Bayshore Hwy\, Millbrae\, CA\, 94030\, United States
CATEGORIES:Conference
ATTACH;FMTTYPE=image/jpeg:https://itcurated.com/infosecuritycalendar/wp-content/uploads/sites/33/2023/05/AdobeStock_384781663.jpeg
END:VEVENT
END:VCALENDAR