BEGIN:VCALENDAR
VERSION:2.0
PRODID:-//Info Security Calendar - ECPv5.16.4//NONSGML v1.0//EN
CALSCALE:GREGORIAN
METHOD:PUBLISH
X-WR-CALNAME:Info Security Calendar
X-ORIGINAL-URL:https://infosecuritycalendar.com
X-WR-CALDESC:Events for Info Security Calendar
BEGIN:VTIMEZONE
TZID:UTC
BEGIN:STANDARD
TZOFFSETFROM:+0000
TZOFFSETTO:+0000
TZNAME:UTC
DTSTART:20210101T000000
END:STANDARD
END:VTIMEZONE
BEGIN:VEVENT
DTSTART;TZID=UTC:20211205T080000
DTEND;TZID=UTC:20211208T170000
DTSTAMP:20260425T132613
CREATED:20210730T142408Z
LAST-MODIFIED:20210730T142408Z
UID:30991-1638691200-1638982800@infosecuritycalendar.com
SUMMARY:Security Weekly Unlocked
DESCRIPTION:Security Weekly\, in partnership with CyberRisk Alliance\, is excited to present the return of Security Weekly Unlocked. For the first time ever\, this event will be held in person and will bring together the cybersecurity community for three days of interaction\, innovation\, and celebration. \nThis event will bring together the Information Security community in a fun\, interactive\, stress-free atmosphere\, so we can all ease back into traveling and networking with our friends (the real reason we all miss in person events)!
URL:https://infosecuritycalendar.com/event/security-weekly-unlocked/
LOCATION:Hilton Orlando Lake Buena Vista\, 1751 Hotel Plaza Blvd\, Lake Buena Vista\, FL\, 32830\, United States
CATEGORIES:Conference
ATTACH;FMTTYPE=image/jpeg:https://itcurated.com/infosecuritycalendar/wp-content/uploads/sites/33/2020/03/security-3497068_1280.jpg
END:VEVENT
END:VCALENDAR