BEGIN:VCALENDAR
VERSION:2.0
PRODID:-//Info Security Calendar - ECPv5.16.4//NONSGML v1.0//EN
CALSCALE:GREGORIAN
METHOD:PUBLISH
X-WR-CALNAME:Info Security Calendar
X-ORIGINAL-URL:https://infosecuritycalendar.com
X-WR-CALDESC:Events for Info Security Calendar
BEGIN:VTIMEZONE
TZID:UTC
BEGIN:STANDARD
TZOFFSETFROM:+0000
TZOFFSETTO:+0000
TZNAME:UTC
DTSTART:20200101T000000
END:STANDARD
END:VTIMEZONE
BEGIN:VEVENT
DTSTART;VALUE=DATE:20200824
DTEND;VALUE=DATE:20200830
DTSTAMP:20260424T144640
CREATED:20200413T095222Z
LAST-MODIFIED:20200413T095330Z
UID:3736-1598227200-1598745599@infosecuritycalendar.com
SUMMARY:SANS San Francisco Summer 2020
DESCRIPTION:SANS Live Online offers live-stream\, instructor-led cyber security training\, plus new virtual NetWars challenges\, dedicated chat channels for interactive virtual networking\, and more! \n\nTraining on the cutting edge: All courses are designed to align with dominant security team roles\, duties\, and disciplines. Explore the Training Roadmap to find the right courses for your immediate cyber security skill development.\nLearn from the best: SANS instructors are active security practitioners who bring their extensive knowledge and real-world experiences to the classroom.\nVirtual Bonus Sessions: Content-loaded bonus sessions presented by industry experts\, including SANS@MIC talks focused on the hottest topics in cybersecurity\, and virtual NetWars challenges! Check weekly for new sessions.
URL:https://infosecuritycalendar.com/event/sans-san-francisco-summer-2020/
LOCATION:Online\, United States
CATEGORIES:Conference
ATTACH;FMTTYPE=image/jpeg:https://itcurated.com/infosecuritycalendar/wp-content/uploads/sites/33/2020/04/security-4887761_1280.jpg
ORGANIZER;CN="SANS":MAILTO:emea@sans.org
END:VEVENT
END:VCALENDAR