BEGIN:VCALENDAR
VERSION:2.0
PRODID:-//Info Security Calendar - ECPv5.16.4//NONSGML v1.0//EN
CALSCALE:GREGORIAN
METHOD:PUBLISH
X-WR-CALNAME:Info Security Calendar
X-ORIGINAL-URL:https://infosecuritycalendar.com
X-WR-CALDESC:Events for Info Security Calendar
BEGIN:VTIMEZONE
TZID:UTC
BEGIN:STANDARD
TZOFFSETFROM:+0000
TZOFFSETTO:+0000
TZNAME:UTC
DTSTART:20170101T000000
END:STANDARD
END:VTIMEZONE
BEGIN:VEVENT
DTSTART;TZID=UTC:20170814T080000
DTEND;TZID=UTC:20170819T170000
DTSTAMP:20260425T164526
CREATED:20170718T114803Z
LAST-MODIFIED:20170718T114803Z
UID:1122-1502697600-1503162000@infosecuritycalendar.com
SUMMARY:SANS Salt Lake City 2017
DESCRIPTION:As cybersecurity threats change daily and attacks become more aggressive\, SANS helps you stay ahead of the curve by providing unique\, hands-on immersion training you can implement the day you return to work. SANS Salt Lake City 2017 (August 14-19)\, you will learn new skills to help you better anticipate security risks and quickly mitigate them. \n“SANS provides high intensity training and material that can be applied immediately upon returning to work.” – Paul Mudgett\, Nevada System of Higher Education \nTake advantage of these opportunities to get the most out of your training: \n\nDistinguish yourself as an information security leader by preparing for your GIAC Certification.\nNetwork with like-minded security professionals facing similar challenges.\nAttend evening bonus sessions led by SANS instructors and gain insight into the latest cybersecurity topics\,\nincluding the dark web and a new pen test platform for control networks.\nExtend your SANS course by four months with an OnDemand Bundle.
URL:https://infosecuritycalendar.com/event/sans-salt-lake-city-2017/
LOCATION:Sheraton Salt Lake City Hotel\, 150 West 500 South\, Salt Lake City\, UT\, 84101\, United States
CATEGORIES:Conference
ATTACH;FMTTYPE=image/jpeg:https://itcurated.com/infosecuritycalendar/wp-content/uploads/sites/33/2017/07/SANS-Salt-Lake-City-2017.jpg
ORGANIZER;CN="SANS":MAILTO:emea@sans.org
END:VEVENT
END:VCALENDAR