BEGIN:VCALENDAR
VERSION:2.0
PRODID:-//Info Security Calendar - ECPv5.16.4//NONSGML v1.0//EN
CALSCALE:GREGORIAN
METHOD:PUBLISH
X-WR-CALNAME:Info Security Calendar
X-ORIGINAL-URL:https://infosecuritycalendar.com
X-WR-CALDESC:Events for Info Security Calendar
BEGIN:VTIMEZONE
TZID:UTC
BEGIN:STANDARD
TZOFFSETFROM:+0000
TZOFFSETTO:+0000
TZNAME:UTC
DTSTART:20180101T000000
END:STANDARD
END:VTIMEZONE
BEGIN:VEVENT
DTSTART;TZID=UTC:20180226T080000
DTEND;TZID=UTC:20180303T170000
DTSTAMP:20260425T133412
CREATED:20180108T113049Z
LAST-MODIFIED:20180108T113049Z
UID:1455-1519632000-1520096400@infosecuritycalendar.com
SUMMARY:SANS New York City Winter 2018
DESCRIPTION:Join us for exceptional cyber security training at SANS New York City Winter 2018 (Feb 26-Mar 3). SANS training teaches you to see new aspects of information security and better understand how to implement security layers to defend your organization from cyber-attacks. The practical expertise of SANS instructors adds value to the training material\, so you not only learn the information\, but can apply it when you return to work.
URL:https://infosecuritycalendar.com/event/sans-new-york-city-winter-2018/
LOCATION:Sheraton New York Times Square Hotel\, 811 7th Avenue 53rd Street\, New York\, NY\, 10019\, United States
CATEGORIES:Course
ATTACH;FMTTYPE=image/jpeg:https://itcurated.com/infosecuritycalendar/wp-content/uploads/sites/33/2018/01/20150318_173251-Copy.jpg
ORGANIZER;CN="SANS":MAILTO:emea@sans.org
END:VEVENT
END:VCALENDAR