BEGIN:VCALENDAR
VERSION:2.0
PRODID:-//Info Security Calendar - ECPv5.16.4//NONSGML v1.0//EN
CALSCALE:GREGORIAN
METHOD:PUBLISH
X-WR-CALNAME:Info Security Calendar
X-ORIGINAL-URL:https://infosecuritycalendar.com
X-WR-CALDESC:Events for Info Security Calendar
BEGIN:VTIMEZONE
TZID:UTC
BEGIN:STANDARD
TZOFFSETFROM:+0000
TZOFFSETTO:+0000
TZNAME:UTC
DTSTART:20170101T000000
END:STANDARD
END:VTIMEZONE
BEGIN:VEVENT
DTSTART;TZID=UTC:20170710T080000
DTEND;TZID=UTC:20170714T170000
DTSTAMP:20260421T085236
CREATED:20170525T155442Z
LAST-MODIFIED:20170525T160213Z
UID:1081-1499673600-1500051600@infosecuritycalendar.com
SUMMARY:SANS ICS & Energy-Houston 2017
DESCRIPTION:SANS ICS & Energy – Houston 2017 is the premier training event for ICS practitioners and managers in the energy sector to enhance their security knowledge and technical skills. SANS will offer four hands-on\, immersion-style information security courses taught be real-world security practitioners. \nRecent attacks on energy and utility systems convey a dire need for decision makers to take a closer look at the security of their systems and facilities. SANS ICS & Energy students will learn the latest methods\, tools\, and techniques for protecting their organizations from targeted attacks through world-class training\, SANS@Night talks\, and an ICS Security Vendor Briefing.
URL:https://infosecuritycalendar.com/event/sans-ics-energy-houston-2017/
LOCATION:Royal Sonesta Hotel Houston\, 2222 West Loop South\, Houston\, TX  77027\, United States
CATEGORIES:Conference
ATTACH;FMTTYPE=image/jpeg:https://itcurated.com/infosecuritycalendar/wp-content/uploads/sites/33/2017/05/ICS-Energy-2017.jpg
ORGANIZER;CN="SANS":MAILTO:emea@sans.org
END:VEVENT
END:VCALENDAR