BEGIN:VCALENDAR
VERSION:2.0
PRODID:-//Info Security Calendar - ECPv5.16.4//NONSGML v1.0//EN
CALSCALE:GREGORIAN
METHOD:PUBLISH
X-WR-CALNAME:Info Security Calendar
X-ORIGINAL-URL:https://infosecuritycalendar.com
X-WR-CALDESC:Events for Info Security Calendar
BEGIN:VTIMEZONE
TZID:UTC
BEGIN:STANDARD
TZOFFSETFROM:+0000
TZOFFSETTO:+0000
TZNAME:UTC
DTSTART:20170101T000000
END:STANDARD
END:VTIMEZONE
BEGIN:VEVENT
DTSTART;TZID=UTC:20170821T080000
DTEND;TZID=UTC:20170826T170000
DTSTAMP:20260424T210146
CREATED:20170719T093252Z
LAST-MODIFIED:20170719T093342Z
UID:1139-1503302400-1503766800@infosecuritycalendar.com
SUMMARY:SANS Chicago 2017
DESCRIPTION:SANS is the most trusted source for information security training in the world. Find out why at SANS Chicago 2017 (August 21-26). All SANS instructors are real-world practitioners\, and their experience adds unparalleled value to your training. \n“SANS training is industry leading. The knowledge is bleeding edge\, and the training is challenging.” – Jarred Rossin\, Cummins Inc. \nTake advantage of these opportunities to get the most out of your training: \n\nDistinguish yourself as an information security leader by preparing for your GIAC Certification.\nNetwork with like-minded security professionals facing similar challenges.\nAttend evening bonus sessions led by SANS instructors and gain insight into the latest cybersecurity topics. Keynote will be “Infosec Rock Star: Geek Will Only Get You So Far” by Ted Demopoulos.\nExtend your SANS course by four months with an OnDemand Bundle.
URL:https://infosecuritycalendar.com/event/sans-chicago-2017/
LOCATION:The Palmer House Hilton\, 17 East Monroe Street\, Chicago\, IL\, 60603\, United States
CATEGORIES:Course
ATTACH;FMTTYPE=image/jpeg:https://itcurated.com/infosecuritycalendar/wp-content/uploads/sites/33/2017/07/46245.jpg
ORGANIZER;CN="SANS":MAILTO:emea@sans.org
END:VEVENT
END:VCALENDAR