BEGIN:VCALENDAR
VERSION:2.0
PRODID:-//Info Security Calendar - ECPv5.16.4//NONSGML v1.0//EN
CALSCALE:GREGORIAN
METHOD:PUBLISH
X-WR-CALNAME:Info Security Calendar
X-ORIGINAL-URL:https://infosecuritycalendar.com
X-WR-CALDESC:Events for Info Security Calendar
BEGIN:VTIMEZONE
TZID:UTC
BEGIN:STANDARD
TZOFFSETFROM:+0000
TZOFFSETTO:+0000
TZNAME:UTC
DTSTART:20220101T000000
END:STANDARD
END:VTIMEZONE
BEGIN:VEVENT
DTSTART;TZID=UTC:20220110T080000
DTEND;TZID=UTC:20220112T170000
DTSTAMP:20260421T095207
CREATED:20210825T104843Z
LAST-MODIFIED:20210825T104843Z
UID:31054-1641801600-1642006800@infosecuritycalendar.com
SUMMARY:Real World Crypto Symposium
DESCRIPTION:Real World Crypto Symposium aims to bring together cryptography researchers with developers implementing cryptography in real-world systems. The conference goal is to strengthen the dialogue between these two communities. Topics covered focus on uses of cryptography in real-world environments such as the Internet\, the cloud\, and embedded devices.
URL:https://infosecuritycalendar.com/event/real-world-crypto-symposium/
LOCATION:Amsterdam\, Amsterdam\, Netherlands
CATEGORIES:Conference
ATTACH;FMTTYPE=image/jpeg:https://itcurated.com/infosecuritycalendar/wp-content/uploads/sites/33/2021/08/rm373batch16-50.jpg
END:VEVENT
END:VCALENDAR