BEGIN:VCALENDAR
VERSION:2.0
PRODID:-//Info Security Calendar - ECPv5.16.4//NONSGML v1.0//EN
CALSCALE:GREGORIAN
METHOD:PUBLISH
X-WR-CALNAME:Info Security Calendar
X-ORIGINAL-URL:https://infosecuritycalendar.com
X-WR-CALDESC:Events for Info Security Calendar
BEGIN:VTIMEZONE
TZID:UTC
BEGIN:STANDARD
TZOFFSETFROM:+0000
TZOFFSETTO:+0000
TZNAME:UTC
DTSTART:20220101T000000
END:STANDARD
END:VTIMEZONE
BEGIN:VEVENT
DTSTART;TZID=UTC:20220906T123000
DTEND;TZID=UTC:20220909T120000
DTSTAMP:20260426T000226
CREATED:20220630T083500Z
LAST-MODIFIED:20220701T083514Z
UID:31790-1662467400-1662724800@infosecuritycalendar.com
SUMMARY:PFIC 2022
DESCRIPTION:PFIC brings together the best in digital data training covering a broad range of topics from DFIR\, OSINT\, eDiscovery\, ransomware\, malware\, and more. When you attend PFIC you are guaranteed to learn something new. \nPFIC will be hosted at the Marriott Vanderbilt location. Primary event days are September 7-8 2022 with pre-event training on Sept 6th starting at Noon and post-event training starting at 8 AM on Sept 9th. You get to take in as much information as you want all in beautiful Nashville Tennessee.
URL:https://infosecuritycalendar.com/event/pfic-2022/
LOCATION:Virtual event\, United States
CATEGORIES:Conference
ATTACH;FMTTYPE=image/jpeg:https://itcurated.com/infosecuritycalendar/wp-content/uploads/sites/33/2022/07/ball-63527_1280.jpg
END:VEVENT
END:VCALENDAR