BEGIN:VCALENDAR
VERSION:2.0
PRODID:-//Info Security Calendar - ECPv5.16.4//NONSGML v1.0//EN
CALSCALE:GREGORIAN
METHOD:PUBLISH
X-WR-CALNAME:Info Security Calendar
X-ORIGINAL-URL:https://infosecuritycalendar.com
X-WR-CALDESC:Events for Info Security Calendar
BEGIN:VTIMEZONE
TZID:UTC
BEGIN:STANDARD
TZOFFSETFROM:+0000
TZOFFSETTO:+0000
TZNAME:UTC
DTSTART:20220101T000000
END:STANDARD
END:VTIMEZONE
BEGIN:VEVENT
DTSTART;TZID=UTC:20220119T080000
DTEND;TZID=UTC:20220120T170000
DTSTAMP:20260425T031927
CREATED:20210830T083433Z
LAST-MODIFIED:20210830T083433Z
UID:31071-1642579200-1642698000@infosecuritycalendar.com
SUMMARY:Oil and Gas IOT Summit
DESCRIPTION:Returning FINALLY to Lisbon The Oil and Gas IoT Summit brings together an exclusive community of around 120 major stakeholders from worldwide operators\, EPCs\, regulators and\, technology providers to debate and discuss the key issues and trends shaping the digital transformation of the industry. \nThe Oil and Gas IoT Summit – join a select community of senior Oil and Gas executives for two days of strategic learning and networking.
URL:https://infosecuritycalendar.com/event/oil-and-gas-iot-summit/
LOCATION:Altis Grand Hotel\, R. Castilho 11\, Lisbon\, 1250-096\, Portugal
CATEGORIES:Conference
ATTACH;FMTTYPE=image/jpeg:https://itcurated.com/infosecuritycalendar/wp-content/uploads/sites/33/2021/08/modern-factory-industrial-zone-blue-sky.jpg
ORGANIZER;CN="intrinsic-communications":MAILTO:info@intrinsic-communications.com
END:VEVENT
END:VCALENDAR