BEGIN:VCALENDAR
VERSION:2.0
PRODID:-//Info Security Calendar - ECPv5.16.4//NONSGML v1.0//EN
CALSCALE:GREGORIAN
METHOD:PUBLISH
X-WR-CALNAME:Info Security Calendar
X-ORIGINAL-URL:https://infosecuritycalendar.com
X-WR-CALDESC:Events for Info Security Calendar
BEGIN:VTIMEZONE
TZID:UTC
BEGIN:STANDARD
TZOFFSETFROM:+0000
TZOFFSETTO:+0000
TZNAME:UTC
DTSTART:20160101T000000
END:STANDARD
END:VTIMEZONE
BEGIN:VEVENT
DTSTART;TZID=UTC:20161102T080000
DTEND;TZID=UTC:20161103T170000
DTSTAMP:20260425T102820
CREATED:20161005T120403Z
LAST-MODIFIED:20161125T104537Z
UID:230-1478073600-1478192400@infosecuritycalendar.com
SUMMARY:NVTC Capital Cybersecurity Summit
DESCRIPTION:The Northern Virginia Technology Council (NVTC) is the voice of technology\, representing a diverse and thriving technology ecosystem\, promoting innovation\, and convening\, educating\, and advocating for the Greater Washington region’s technology community. \nThe 2016 Capital Cybersecurity Summit will feature keynote speakers and panels offering unique insights on emerging cyber-security technologies\, digital solutions\, operations and enforcement from the private sector\, government and academic perspectives.  The Summit will also include a technology showcase at which cyber-security companies from Virginia\, Maryland and D.C. can promote their products and services\, network\, and connect with potential customers\, partners\, investors and employees.
URL:https://infosecuritycalendar.com/event/nvtc-capital-cybersecurity-summit/
LOCATION:The Ritz-Carlton\, Tysons Corner\, 1700 Tysons Blvd\, McLean\, VA\, 22102\, United States
CATEGORIES:Conference
ATTACH;FMTTYPE=image/jpeg:https://itcurated.com/infosecuritycalendar/wp-content/uploads/sites/33/2016/10/capital-cybersecurity-summit-home-page-subbanner-1-2.jpg
END:VEVENT
END:VCALENDAR