BEGIN:VCALENDAR
VERSION:2.0
PRODID:-//Info Security Calendar - ECPv5.16.4//NONSGML v1.0//EN
CALSCALE:GREGORIAN
METHOD:PUBLISH
X-WR-CALNAME:Info Security Calendar
X-ORIGINAL-URL:https://infosecuritycalendar.com
X-WR-CALDESC:Events for Info Security Calendar
BEGIN:VTIMEZONE
TZID:UTC
BEGIN:STANDARD
TZOFFSETFROM:+0000
TZOFFSETTO:+0000
TZNAME:UTC
DTSTART:20170101T000000
END:STANDARD
END:VTIMEZONE
BEGIN:VEVENT
DTSTART;TZID=UTC:20170426T080000
DTEND;TZID=UTC:20170427T170000
DTSTAMP:20260425T231333
CREATED:20170310T141724Z
LAST-MODIFIED:20170310T141724Z
UID:903-1493193600-1493312400@infosecuritycalendar.com
SUMMARY:IP Expo Manchester
DESCRIPTION:With six top IT events under ONE roof\, 100+ exhibitors and 100+ free to attend seminar sessions\, IP EXPO Manchester is the must-attend Manchester IT event of the year for CIOs\, heads of IT\, security specialists\, heads of insight and tech experts. \nThe event showcases brand new exclusive content and senior level insights from across the industry\, as well as unveiling the latest developments in IT. IP EXPO Manchester now incorporates six events under one roof including: Cloud\, Cyber Security\, Networks & Infrastructure\, AI\, Analytics & IOT\, DevOps and Open Source.
URL:https://infosecuritycalendar.com/event/ip-expo-manchester/
LOCATION:Manchester Central\, Manchester\, United Kingdom
CATEGORIES:Event
ATTACH;FMTTYPE=image/jpeg:https://itcurated.com/infosecuritycalendar/wp-content/uploads/sites/33/2017/03/3506abb78c4c8d60bbd897d284267c73.jpg
END:VEVENT
END:VCALENDAR