BEGIN:VCALENDAR
VERSION:2.0
PRODID:-//Info Security Calendar - ECPv5.16.4//NONSGML v1.0//EN
CALSCALE:GREGORIAN
METHOD:PUBLISH
X-WR-CALNAME:Info Security Calendar
X-ORIGINAL-URL:https://infosecuritycalendar.com
X-WR-CALDESC:Events for Info Security Calendar
BEGIN:VTIMEZONE
TZID:UTC
BEGIN:STANDARD
TZOFFSETFROM:+0000
TZOFFSETTO:+0000
TZNAME:UTC
DTSTART:20180101T000000
END:STANDARD
END:VTIMEZONE
BEGIN:VEVENT
DTSTART;TZID=UTC:20180902T080000
DTEND;TZID=UTC:20180905T170000
DTSTAMP:20260421T154746
CREATED:20180801T093623Z
LAST-MODIFIED:20180801T093739Z
UID:1905-1535875200-1536166800@infosecuritycalendar.com
SUMMARY:International Workshop on Technical and Legal aspects of Data Privacy and Security (TELERISE)
DESCRIPTION:BigDataMAPS seeks to promote novel contributions in the field of big data processing and management\, big data analytics and big data privacy and security. The aim of this workshop is to become a regular\, interdisciplinary exchange forum for researchers and practitioners interested in big data as a research object. By exchanging research results\, experiences\, and products\, the ultimate goal is to conceive new trends and ideas on designing\, implementing and evaluating solutions for efficient\, safe\, reliable and compliant information sharing\, with an eye to the cross-relations between ICT and regulatory aspects of data management. Information sharing is essential for today’s business and societal transactions.
URL:https://infosecuritycalendar.com/event/international-workshop-on-technical-and-legal-aspects-of-data-privacy-and-security-telerise/
LOCATION:Danubius Hotel Flamenco\, Tas vezér u. 3-7\, Budapest\, 1113\, Hungary
CATEGORIES:Conference
ATTACH;FMTTYPE=image/jpeg:https://itcurated.com/infosecuritycalendar/wp-content/uploads/sites/33/2018/08/imgonline-com-ua-Resize-rb3pjAR4cv6G.jpg
END:VEVENT
END:VCALENDAR