BEGIN:VCALENDAR
VERSION:2.0
PRODID:-//Info Security Calendar - ECPv5.16.4//NONSGML v1.0//EN
CALSCALE:GREGORIAN
METHOD:PUBLISH
X-WR-CALNAME:Info Security Calendar
X-ORIGINAL-URL:https://infosecuritycalendar.com
X-WR-CALDESC:Events for Info Security Calendar
BEGIN:VTIMEZONE
TZID:UTC
BEGIN:STANDARD
TZOFFSETFROM:+0000
TZOFFSETTO:+0000
TZNAME:UTC
DTSTART:20200101T000000
END:STANDARD
END:VTIMEZONE
BEGIN:VEVENT
DTSTART;VALUE=DATE:20200501
DTEND;VALUE=DATE:20200504
DTSTAMP:20260425T164526
CREATED:20200122T103216Z
LAST-MODIFIED:20200122T103216Z
UID:3372-1588291200-1588550399@infosecuritycalendar.com
SUMMARY:InfoSec Southwest (ISSW)
DESCRIPTION:InfoSec Southwest is an annual information security and hacking conference held in Austin\, Texas. ISSW provides an environment for attendees to benefit from the broad scope of topics and open forums offered. \nExpand your skills at a conference designed and hosted by the local Austin hacker community. Covering a multitude of subjects ranging from deep technical dives into cutting edge research to the social and legal implications of hacker culture\, there will always be something intriguing and insightful to witness in the information security and hacking fields\, Participate in our events and meet other information security professionals\, or share some of your own expertise with attendees in a Turbo-Talk\, our open forum where anyone can become a conference speaker.
URL:https://infosecuritycalendar.com/event/infosec-southwest-issw/
LOCATION:Hotel Ella\, 1900 Rio Grande St\, Austin\, TX\, 78705\, United States
CATEGORIES:Conference
ATTACH;FMTTYPE=image/jpeg:https://itcurated.com/infosecuritycalendar/wp-content/uploads/sites/33/2020/01/analytics-3088958_1280.jpg
END:VEVENT
END:VCALENDAR