BEGIN:VCALENDAR
VERSION:2.0
PRODID:-//Info Security Calendar - ECPv5.16.4//NONSGML v1.0//EN
CALSCALE:GREGORIAN
METHOD:PUBLISH
X-WR-CALNAME:Info Security Calendar
X-ORIGINAL-URL:https://infosecuritycalendar.com
X-WR-CALDESC:Events for Info Security Calendar
BEGIN:VTIMEZONE
TZID:UTC
BEGIN:STANDARD
TZOFFSETFROM:+0000
TZOFFSETTO:+0000
TZNAME:UTC
DTSTART:20170101T000000
END:STANDARD
END:VTIMEZONE
BEGIN:VEVENT
DTSTART;VALUE=DATE:20170406
DTEND;VALUE=DATE:20170407
DTSTAMP:20260422T030252
CREATED:20170222T131345Z
LAST-MODIFIED:20170222T131345Z
UID:706-1491436800-1491523199@infosecuritycalendar.com
SUMMARY:Information Security and Protection of Information Technologies 2017
DESCRIPTION:We welcome you to the Third Information Security and Protection of Information Technologies workshop (ISPIT-2017) that will be held in conjunction with 20th FRUCT conference. Seminar is organized by Secure Information Technologies department of ITMO University and will take place at the ITMO University\, Saint-Petersburg\, Russia. \nISPIT is a scientific forum dedicated cyber security and IT-security. It focuses on novel researches and developments in these areas. In this seminar will bring together innovative thinkers\, researchers\, leading experts and security professionals for exchanging and investigating ideas\, outcomes and experiences in all aspects of IT-security.
URL:https://infosecuritycalendar.com/event/information-security-protection-information-technologies-2017/
LOCATION:Optics Museum\, Vasilievskiy island\, Birzhevaya liniya\, 14\, St. Petersburg\, Russian Federation
CATEGORIES:Conference
ATTACH;FMTTYPE=image/jpeg:https://itcurated.com/infosecuritycalendar/wp-content/uploads/sites/33/2017/02/s2.jpg
END:VEVENT
END:VCALENDAR