BEGIN:VCALENDAR
VERSION:2.0
PRODID:-//Info Security Calendar - ECPv5.16.4//NONSGML v1.0//EN
CALSCALE:GREGORIAN
METHOD:PUBLISH
X-WR-CALNAME:Info Security Calendar
X-ORIGINAL-URL:https://infosecuritycalendar.com
X-WR-CALDESC:Events for Info Security Calendar
BEGIN:VTIMEZONE
TZID:UTC
BEGIN:STANDARD
TZOFFSETFROM:+0000
TZOFFSETTO:+0000
TZNAME:UTC
DTSTART:20180101T000000
END:STANDARD
END:VTIMEZONE
BEGIN:VEVENT
DTSTART;TZID=UTC:20180725T080000
DTEND;TZID=UTC:20180727T170000
DTSTAMP:20260424T192445
CREATED:20180514T105051Z
LAST-MODIFIED:20180514T105051Z
UID:1691-1532505600-1532710800@infosecuritycalendar.com
SUMMARY:GR8Conf US 2018
DESCRIPTION:This 2-day\, hands-on workshop takes place prior to GR8Conf US. Enroll now and be among the first to learn the Micronaut framework! Through lectures\, real-world examples\, and lab exercises\, developers will be armed with everything they need to immediately start building microservice applications using Micronaut.
URL:https://infosecuritycalendar.com/event/gr8conf-us-2018/
LOCATION:University of St. Thomas – Schulze Hall\, 46 S 11th St Minneapolis\, Mineapolis\, MN\, 55403\, United States
CATEGORIES:Conference
ATTACH;FMTTYPE=image/jpeg:https://itcurated.com/infosecuritycalendar/wp-content/uploads/sites/33/2018/05/StThomasLawSchool6-c.jpg
ORGANIZER;CN="Gr8Conf":MAILTO:shaun@prettygoodconferences.org
END:VEVENT
END:VCALENDAR