BEGIN:VCALENDAR
VERSION:2.0
PRODID:-//Info Security Calendar - ECPv5.16.4//NONSGML v1.0//EN
CALSCALE:GREGORIAN
METHOD:PUBLISH
X-WR-CALNAME:Info Security Calendar
X-ORIGINAL-URL:https://infosecuritycalendar.com
X-WR-CALDESC:Events for Info Security Calendar
BEGIN:VTIMEZONE
TZID:UTC
BEGIN:STANDARD
TZOFFSETFROM:+0000
TZOFFSETTO:+0000
TZNAME:UTC
DTSTART:20210101T000000
END:STANDARD
END:VTIMEZONE
BEGIN:VEVENT
DTSTART;TZID=UTC:20210525T080000
DTEND;TZID=UTC:20210526T170000
DTSTAMP:20260422T143105
CREATED:20210209T121247Z
LAST-MODIFIED:20210209T121247Z
UID:30476-1621929600-1622048400@infosecuritycalendar.com
SUMMARY:Governance Risk & Compliance APAC Confex 2021
DESCRIPTION:The Governance\, Risk & Compliance ConfEx\, APAC – Online Event aims to bring together 200+ In-house Counsel\, Head of Risk & Compliance\, Compliance Managers\, Law Firm Partners and Law Tech Professionals. They will come together to educate\, learn\, network and inspire. \nAbout Events 4 Sure \nHeadquartered in India with offices in California\, USA\, and alliances in over 20 countries\, Events 4 Sure is one of the best-in-class Law Event Management Companies in the world. We have been offering our web and in-person law events for almost 10 years. Every year\, we touch base with not less than 100\,000 lawyers globally. To be precise\, we have our clients today in over 60 countries globally and growing.
URL:https://infosecuritycalendar.com/event/governance-risk-compliance-apac-confex-2021-2/
LOCATION:Virtual conference
CATEGORIES:Conference
ATTACH;FMTTYPE=image/jpeg:https://itcurated.com/infosecuritycalendar/wp-content/uploads/sites/33/2020/07/sergey-zolkin-_UeY8aTI6d0-unsplash.jpg
END:VEVENT
END:VCALENDAR