BEGIN:VCALENDAR
VERSION:2.0
PRODID:-//Info Security Calendar - ECPv5.16.4//NONSGML v1.0//EN
CALSCALE:GREGORIAN
METHOD:PUBLISH
X-WR-CALNAME:Info Security Calendar
X-ORIGINAL-URL:https://infosecuritycalendar.com
X-WR-CALDESC:Events for Info Security Calendar
BEGIN:VTIMEZONE
TZID:UTC
BEGIN:STANDARD
TZOFFSETFROM:+0000
TZOFFSETTO:+0000
TZNAME:UTC
DTSTART:20170101T000000
END:STANDARD
END:VTIMEZONE
BEGIN:VEVENT
DTSTART;TZID=UTC:20170306T081500
DTEND;TZID=UTC:20170307T170000
DTSTAMP:20260426T041146
CREATED:20170222T150444Z
LAST-MODIFIED:20170222T150444Z
UID:720-1488788100-1488906000@infosecuritycalendar.com
SUMMARY:Gartner Identity & Access Management Summit
DESCRIPTION:Identity and access management must address growing technology relationships across digital business initiatives. In response\, security and risk management leaders should prepare to redefine best practices for IAM program governance\, and managing people and things across diverse platforms. \nHear the latest tactics and best practices across IAM fundamentals\, take a look ahead at analytics-driven automation and advances in consumer engagement platforms. Experience unbiased\, leading-edge research covering mobile\, cloud\, IAM as a service\, privileged identity strategies\, and IoT.  Validate your IAM strategy for agile\, digital-age security\, so you can drive faster time to value.
URL:https://infosecuritycalendar.com/event/gartner-identity-access-management-summit/
LOCATION:Park Plaza Westminster\, 200 Westminster Bridge Road\, London\, SE1 7UT \, United Kingdom
CATEGORIES:Conference
ATTACH;FMTTYPE=image/jpeg:https://itcurated.com/infosecuritycalendar/wp-content/uploads/sites/33/2016/10/cryptoz.jpg
ORGANIZER;CN="Gartner":MAILTO:GlobalConferences@gartner.com
END:VEVENT
END:VCALENDAR