BEGIN:VCALENDAR
VERSION:2.0
PRODID:-//Info Security Calendar - ECPv5.16.4//NONSGML v1.0//EN
CALSCALE:GREGORIAN
METHOD:PUBLISH
X-WR-CALNAME:Info Security Calendar
X-ORIGINAL-URL:https://infosecuritycalendar.com
X-WR-CALDESC:Events for Info Security Calendar
BEGIN:VTIMEZONE
TZID:UTC
BEGIN:STANDARD
TZOFFSETFROM:+0000
TZOFFSETTO:+0000
TZNAME:UTC
DTSTART:20160101T000000
END:STANDARD
END:VTIMEZONE
BEGIN:VEVENT
DTSTART;TZID=UTC:20161206T080000
DTEND;TZID=UTC:20161208T170000
DTSTAMP:20260425T033323
CREATED:20161011T154439Z
LAST-MODIFIED:20161125T104535Z
UID:398-1481011200-1481216400@infosecuritycalendar.com
SUMMARY:Gartner Application Strategies & Solutions Summit
DESCRIPTION:Build an applications organization with the agility and flexibility to support today’s digital business demands. Empower your entire enterprise to address digital business opportunities and use leading technologies to create and deploy business critical solutions.
URL:https://infosecuritycalendar.com/event/gartner-application-strategies-solutions-summit/
LOCATION:Caesars Palace\, 3570 Las Vegas Blvd. South\, Las Vegas\, NV\, 89109 \, United States
CATEGORIES:Event
ATTACH;FMTTYPE=image/jpeg:https://itcurated.com/infosecuritycalendar/wp-content/uploads/sites/33/2016/10/microphone-1166625_1920-1.jpg
END:VEVENT
END:VCALENDAR