BEGIN:VCALENDAR
VERSION:2.0
PRODID:-//Info Security Calendar - ECPv5.16.4//NONSGML v1.0//EN
CALSCALE:GREGORIAN
METHOD:PUBLISH
X-WR-CALNAME:Info Security Calendar
X-ORIGINAL-URL:https://infosecuritycalendar.com
X-WR-CALDESC:Events for Info Security Calendar
BEGIN:VTIMEZONE
TZID:UTC
BEGIN:STANDARD
TZOFFSETFROM:+0000
TZOFFSETTO:+0000
TZNAME:UTC
DTSTART:20220101T000000
END:STANDARD
END:VTIMEZONE
BEGIN:VEVENT
DTSTART;VALUE=DATE:20221207
DTEND;VALUE=DATE:20221208
DTSTAMP:20260425T144106
CREATED:20220930T131811Z
LAST-MODIFIED:20221003T132252Z
UID:32071-1670371200-1670457599@infosecuritycalendar.com
SUMMARY:FutureCon Virtual Western Conference
DESCRIPTION:FutureCon Events brings high-level Cyber Security Training discovering cutting-edge security approaches\, managing risk in the ever-changing threat of the cybersecurity workforce. \nJoin us as we talk with a panel of C-level executives who have effectively mitigated the risk of Cyber Attacks. \nEducating C-suite executives and CISOs (chief information security officers) on the global cybercrime epidemic\, and how to build Cyber Resilient organizations. \n“Cybersecurity is no longer just an IT problem” \nGain the latest knowledge you need to enable applications while keeping your computing environment secure from advanced Cyber Threats. Demo the newest technology\, and interact with the world’s security leaders and gain other pressing topics of interest to the information security community.
URL:https://infosecuritycalendar.com/event/futurecon-virtual-western-conference/
LOCATION:Virtual Conference\, United States
CATEGORIES:Conference
ATTACH;FMTTYPE=image/jpeg:https://itcurated.com/infosecuritycalendar/wp-content/uploads/sites/33/2022/05/AdobeStock_195573466.jpeg
ORGANIZER;CN="FutureCon":MAILTO:info@futureconevents.com
END:VEVENT
END:VCALENDAR