BEGIN:VCALENDAR
VERSION:2.0
PRODID:-//Info Security Calendar - ECPv5.16.4//NONSGML v1.0//EN
CALSCALE:GREGORIAN
METHOD:PUBLISH
X-WR-CALNAME:Info Security Calendar
X-ORIGINAL-URL:https://infosecuritycalendar.com
X-WR-CALDESC:Events for Info Security Calendar
BEGIN:VTIMEZONE
TZID:UTC
BEGIN:STANDARD
TZOFFSETFROM:+0000
TZOFFSETTO:+0000
TZNAME:UTC
DTSTART:20210101T000000
END:STANDARD
END:VTIMEZONE
BEGIN:VEVENT
DTSTART;TZID=UTC:20211006T080000
DTEND;TZID=UTC:20211006T170000
DTSTAMP:20260425T130448
CREATED:20210628T090822Z
LAST-MODIFIED:20210628T090822Z
UID:30795-1633507200-1633539600@infosecuritycalendar.com
SUMMARY:FutureCon Los Angeles 2021
DESCRIPTION:FutureCon Events brings high-level Cyber Security Training discovering cutting-edge security approaches\, managing risk in the ever-changing threat of the cybersecurity workforce. \nJoin us as we talk with a panel of C-level executives who have effectively mitigated the risk of Cyber Attacks. \nEducating C-suite executives and CISOs (chief information security officers) on the global cybercrime epidemic\, and how to build Cyber Resilient organizations.
URL:https://infosecuritycalendar.com/event/futurecon-los-angeles-2021/
LOCATION:Virtual event\, United States
CATEGORIES:Conference
ATTACH;FMTTYPE=image/jpeg:https://itcurated.com/infosecuritycalendar/wp-content/uploads/sites/33/2021/06/network-3537389_1280.jpg
ORGANIZER;CN="FutureCon":MAILTO:info@futureconevents.com
END:VEVENT
END:VCALENDAR