BEGIN:VCALENDAR
VERSION:2.0
PRODID:-//Info Security Calendar - ECPv5.16.4//NONSGML v1.0//EN
CALSCALE:GREGORIAN
METHOD:PUBLISH
X-WR-CALNAME:Info Security Calendar
X-ORIGINAL-URL:https://infosecuritycalendar.com
X-WR-CALDESC:Events for Info Security Calendar
BEGIN:VTIMEZONE
TZID:UTC
BEGIN:STANDARD
TZOFFSETFROM:+0000
TZOFFSETTO:+0000
TZNAME:UTC
DTSTART:20220101T000000
END:STANDARD
END:VTIMEZONE
BEGIN:VEVENT
DTSTART;VALUE=DATE:20221003
DTEND;VALUE=DATE:20221005
DTSTAMP:20260421T051232
CREATED:20220531T003533Z
LAST-MODIFIED:20220601T005613Z
UID:31668-1664755200-1664927999@infosecuritycalendar.com
SUMMARY:Extraordinary women in tech conference
DESCRIPTION:Be part of a select group of talented women from around the globe. Participate in our first Global Extraordinary Women in Tech Conference in San Francisco\, October 3rd-4th\, 2022. \nJoin an unique community of female thought leaders who come to be heard\, inspired and empowered. \nApply today to experience life-changing moments. \nThe Extraordinary Women in Tech Global Conference 2022 is a networking platform for female leaders and rising tech stars that cultivates an open exchange of innovative thinking\, ground-breaking technologies\, and mentoring toward personal and professional goals.
URL:https://infosecuritycalendar.com/event/extraordinary-women-in-tech-conference/
LOCATION:InterContinental Hotel\, 888 Howard Street\, San Francisco\, CA\, 94103\, United States
CATEGORIES:Conference
ATTACH;FMTTYPE=image/jpeg:https://itcurated.com/infosecuritycalendar/wp-content/uploads/sites/33/2022/06/AdobeStock_275459837.jpeg
END:VEVENT
END:VCALENDAR