BEGIN:VCALENDAR
VERSION:2.0
PRODID:-//Info Security Calendar - ECPv5.16.4//NONSGML v1.0//EN
CALSCALE:GREGORIAN
METHOD:PUBLISH
X-WR-CALNAME:Info Security Calendar
X-ORIGINAL-URL:https://infosecuritycalendar.com
X-WR-CALDESC:Events for Info Security Calendar
BEGIN:VTIMEZONE
TZID:UTC
BEGIN:STANDARD
TZOFFSETFROM:+0000
TZOFFSETTO:+0000
TZNAME:UTC
DTSTART:20230101T000000
END:STANDARD
END:VTIMEZONE
BEGIN:VEVENT
DTSTART;TZID=UTC:20230518T070000
DTEND;TZID=UTC:20230518T140000
DTSTAMP:20260421T150142
CREATED:20230223T132452Z
LAST-MODIFIED:20230223T132529Z
UID:32581-1684393200-1684418400@infosecuritycalendar.com
SUMMARY:ExploitCon Bellevue
DESCRIPTION:ExploitCon Bellevue 2023 focuses on providing attendees with technical information from industry experts in order to educate the IT community on advancements in Cyber Security and Information Technology. Join this incredible community and enjoy presentations from local speakers on a wide range of IT topics\, connect with peers and other industry experts\, or get hands on experience at the conference’s villages.
URL:https://infosecuritycalendar.com/event/exploitcon-bellevue-2/
LOCATION:BELLEVUE\, Bellevue\, WA\, United States
CATEGORIES:Conference
ATTACH;FMTTYPE=image/jpeg:https://itcurated.com/infosecuritycalendar/wp-content/uploads/sites/33/2023/02/imgonline-com-ua-Compressed-HJhJJxEFF1.jpg
ORGANIZER;CN="ExploitCon":MAILTO:info@exploitcon.com
END:VEVENT
END:VCALENDAR