BEGIN:VCALENDAR
VERSION:2.0
PRODID:-//Info Security Calendar - ECPv5.16.4//NONSGML v1.0//EN
CALSCALE:GREGORIAN
METHOD:PUBLISH
X-WR-CALNAME:Info Security Calendar
X-ORIGINAL-URL:https://infosecuritycalendar.com
X-WR-CALDESC:Events for Info Security Calendar
BEGIN:VTIMEZONE
TZID:UTC
BEGIN:STANDARD
TZOFFSETFROM:+0000
TZOFFSETTO:+0000
TZNAME:UTC
DTSTART:20190101T000000
END:STANDARD
END:VTIMEZONE
BEGIN:VEVENT
DTSTART;TZID=UTC:20191104T080000
DTEND;TZID=UTC:20191105T170000
DTSTAMP:20260426T000703
CREATED:20190917T090048Z
LAST-MODIFIED:20190917T090048Z
UID:2769-1572854400-1572973200@infosecuritycalendar.com
SUMMARY:Elite East Coast CISO Summit
DESCRIPTION:Welcome to the inaugural Elite East Coast CISO Summit! \nWith the evolving threat landscape moving at such an unparalleled speed\, the task facing modern IT Security leaders is vast. This gathering is part of a 4 summit series designed to help those leading the fight gain better understanding of how to DISCOVER threats before they happen\, PROTECT critical business assets and build a robust strategy to RECOVER from an attack. \nThe intimate nature of the gatherings lends itself perfectly to building genuine relationships with all of the attendees and the format of the agenda is 100% geared towards education/collaboration around the key challenges.
URL:https://infosecuritycalendar.com/event/elite-east-coast-ciso-summit/
LOCATION:The Lenox Hotel\, 61 Exeter Street at\, Boylston St\, Boston\, MA\, 02116\, United States
CATEGORIES:Conference
ATTACH;FMTTYPE=image/jpeg:https://itcurated.com/infosecuritycalendar/wp-content/uploads/sites/33/2019/09/27891579948_bbbe3949ae_b.jpg
ORGANIZER;CN="Rela8%20Group":MAILTO:info@rela8group.com
END:VEVENT
END:VCALENDAR