BEGIN:VCALENDAR
VERSION:2.0
PRODID:-//Info Security Calendar - ECPv5.16.4//NONSGML v1.0//EN
CALSCALE:GREGORIAN
METHOD:PUBLISH
X-WR-CALNAME:Info Security Calendar
X-ORIGINAL-URL:https://infosecuritycalendar.com
X-WR-CALDESC:Events for Info Security Calendar
BEGIN:VTIMEZONE
TZID:UTC
BEGIN:STANDARD
TZOFFSETFROM:+0000
TZOFFSETTO:+0000
TZNAME:UTC
DTSTART:20210101T000000
END:STANDARD
END:VTIMEZONE
BEGIN:VEVENT
DTSTART;TZID=UTC:20210830T080000
DTEND;TZID=UTC:20210831T170000
DTSTAMP:20260420T184447
CREATED:20210430T111335Z
LAST-MODIFIED:20210430T111335Z
UID:30684-1630310400-1630429200@infosecuritycalendar.com
SUMMARY:Droidcon NYC 2021
DESCRIPTION:Droidcon NYC 2021 will take place on August 30th – 31st\, 2021 in NYC at the Brooklyn Expo Center.\n​\nFor 12 years\, developers from around the world have gathered at droidcon events to listen to keynote speakers\, attend workshops\, grow their skills and connect with other passionate Android developers. \nAt droidcon NYC you will: \n\nLearn from the experts.\nBe inspired – leave with practical ideas you can implement straight away.\nDevelop connections – network with over 900 Android developers.\nExplore NYC – our central location puts this world-class city within your reach.
URL:https://infosecuritycalendar.com/event/droidcon-nyc-2021/
LOCATION:Brooklyn EXPO Center\, 72 Noble St\, Brooklyn\, NY\, 11222\, United States
CATEGORIES:Conference
ATTACH;FMTTYPE=image/jpeg:https://itcurated.com/infosecuritycalendar/wp-content/uploads/sites/33/2021/04/android-2698158_1920.jpg
ORGANIZER;CN="droidcon":MAILTO:global@droidcon.de
END:VEVENT
END:VCALENDAR