BEGIN:VCALENDAR
VERSION:2.0
PRODID:-//Info Security Calendar - ECPv5.16.4//NONSGML v1.0//EN
CALSCALE:GREGORIAN
METHOD:PUBLISH
X-WR-CALNAME:Info Security Calendar
X-ORIGINAL-URL:https://infosecuritycalendar.com
X-WR-CALDESC:Events for Info Security Calendar
BEGIN:VTIMEZONE
TZID:UTC
BEGIN:STANDARD
TZOFFSETFROM:+0000
TZOFFSETTO:+0000
TZNAME:UTC
DTSTART:20180101T000000
END:STANDARD
END:VTIMEZONE
BEGIN:VEVENT
DTSTART;TZID=UTC:20181005T080000
DTEND;TZID=UTC:20181007T170000
DTSTAMP:20260425T001137
CREATED:20180830T093445Z
LAST-MODIFIED:20180830T093445Z
UID:1972-1538726400-1538931600@infosecuritycalendar.com
SUMMARY:DerbyCon
DESCRIPTION:Welcome to DerbyCon 8.0 “Evolution”. This will be the eighth year running and at a brand new location at the Marriott Louisville. \nDerbyCon 8.0’s theme this year is “Evolution”. We picked evolution this year partially because of DerbyCon evolving (changing) and moving to a new venue but also (and primarily) because of the evolution of the information security industry and how it is always changing and our desire to try to make it better. Evolution to us\, is simply and exactly how it is defined: the gradual development of something\, especially from a simple to a more complex form. The information security space started from something simple\, and is becoming more and more complex each and everyday. How we handle the complexities and tackle situations is all apart of how we grow as an industry\, and DerbyCon is a place where anyone who is remotely interested or someone who is well established in information security can experience it.
URL:https://infosecuritycalendar.com/event/derbycon/
LOCATION:Louisville Marriott Downtown\, 280 W Jefferson St\, Louisville\, KY\, 40202\, United States
CATEGORIES:Conference
ATTACH;FMTTYPE=image/jpeg:https://itcurated.com/infosecuritycalendar/wp-content/uploads/sites/33/2018/08/https_2F2Fcdn.evbuc_.com2Fimages2F442083782F2483348692632F12Foriginal.jpg
END:VEVENT
END:VCALENDAR