BEGIN:VCALENDAR
VERSION:2.0
PRODID:-//Info Security Calendar - ECPv5.16.4//NONSGML v1.0//EN
CALSCALE:GREGORIAN
METHOD:PUBLISH
X-WR-CALNAME:Info Security Calendar
X-ORIGINAL-URL:https://infosecuritycalendar.com
X-WR-CALDESC:Events for Info Security Calendar
BEGIN:VTIMEZONE
TZID:UTC
BEGIN:STANDARD
TZOFFSETFROM:+0000
TZOFFSETTO:+0000
TZNAME:UTC
DTSTART:20230101T000000
END:STANDARD
END:VTIMEZONE
BEGIN:VEVENT
DTSTART;VALUE=DATE:20230720
DTEND;VALUE=DATE:20230722
DTSTAMP:20260425T001219
CREATED:20230505T123739Z
LAST-MODIFIED:20230505T123809Z
UID:32800-1689811200-1689983999@infosecuritycalendar.com
SUMMARY:DataConnect Conference
DESCRIPTION:The annual DataConnect Conference brings together industry leaders\, technical experts and entrepreneurs to discuss the latest trends\, advancements\, technologies\, and innovations in data\, analytics\, machine learning\, and AI. \n\nLearn from high-quality content delivered by thought leaders through keynotes\, presentations\, engaging panel discussions\, and expert-led workshops.\nCollaborate with peers and network with experts.\nConnect with the global data community with non-stop networking opportunities.
URL:https://infosecuritycalendar.com/event/dataconnect-conference/
LOCATION:Columbus\, Columbus\, OH\, United States
CATEGORIES:Conference
ATTACH;FMTTYPE=image/jpeg:https://itcurated.com/infosecuritycalendar/wp-content/uploads/sites/33/2023/05/imgonline-com-ua-Compressed-JDZ9pK7x4n3.jpg
ORGANIZER;CN="DataConnect":MAILTO:https://www.dataconnectconf.com/contact-us
END:VEVENT
END:VCALENDAR