BEGIN:VCALENDAR
VERSION:2.0
PRODID:-//Info Security Calendar - ECPv5.16.4//NONSGML v1.0//EN
CALSCALE:GREGORIAN
METHOD:PUBLISH
X-WR-CALNAME:Info Security Calendar
X-ORIGINAL-URL:https://infosecuritycalendar.com
X-WR-CALDESC:Events for Info Security Calendar
BEGIN:VTIMEZONE
TZID:UTC
BEGIN:STANDARD
TZOFFSETFROM:+0000
TZOFFSETTO:+0000
TZNAME:UTC
DTSTART:20200101T000000
END:STANDARD
END:VTIMEZONE
BEGIN:VEVENT
DTSTART;TZID=UTC:20200609T083000
DTEND;TZID=UTC:20200609T163000
DTSTAMP:20260421T134345
CREATED:20200220T145127Z
LAST-MODIFIED:20200220T145127Z
UID:3614-1591691400-1591720200@infosecuritycalendar.com
SUMMARY:Data Connectors Raleigh Tech-Security
DESCRIPTION:Since 1999\, Data Connectors has been conducting Cybersecurity Conferences in 50 cities annually across Canada and the United States. The one-day conferences will feature a CISO Panel\, Keynote Speaker Session\, plus an additional 8-10 educational speaker sessions discussing the most recent cybersecurity threats and solutions. Attendees will also have an opportunity to visit 30-60 cybersecurity exhibits. \nThe ticket bought will include access to these exhibits and sessions\, as well as a light breakfast\, full lunch\, conference materials and a chance to win gift cards and tech gadgets in their prize drawing.
URL:https://infosecuritycalendar.com/event/data-connectors-raleigh-tech-security-2/
CATEGORIES:Conference
ATTACH;FMTTYPE=image/jpeg:https://itcurated.com/infosecuritycalendar/wp-content/uploads/sites/33/2020/02/pexels-photo-2833037-1.jpeg
ORGANIZER;CN="Data%20Connectors":MAILTO:INFO@DATACONNECTORS.COM
END:VEVENT
END:VCALENDAR