BEGIN:VCALENDAR
VERSION:2.0
PRODID:-//Info Security Calendar - ECPv5.16.4//NONSGML v1.0//EN
CALSCALE:GREGORIAN
METHOD:PUBLISH
X-WR-CALNAME:Info Security Calendar
X-ORIGINAL-URL:https://infosecuritycalendar.com
X-WR-CALDESC:Events for Info Security Calendar
BEGIN:VTIMEZONE
TZID:UTC
BEGIN:STANDARD
TZOFFSETFROM:+0000
TZOFFSETTO:+0000
TZNAME:UTC
DTSTART:20190101T000000
END:STANDARD
END:VTIMEZONE
BEGIN:VEVENT
DTSTART;TZID=UTC:20190711T080000
DTEND;TZID=UTC:20190711T170000
DTSTAMP:20260421T205649
CREATED:20190708T093613Z
LAST-MODIFIED:20190708T093613Z
UID:2534-1562832000-1562864400@infosecuritycalendar.com
SUMMARY:Data Connectors Minneapolis Tech-Security
DESCRIPTION:The Minneapolis Cybersecurity Conference features 40-60 vendor exhibits and 8-12 educational sessions discussing current cybersecurity threats and solutions. Your ticket includes access to these exhibits and sessions\, as well as a light breakfast\, full lunch\, conference materials and a chance to win tech gadgets and gift cards in our prize drawing.
URL:https://infosecuritycalendar.com/event/data-connectors-minneapolis-tech-security/
LOCATION:Hyatt Regency Minneapolis\, 1300 Nicollet Mall\, Minneapolis\, MN\, 55403\, United States
CATEGORIES:Conference
ATTACH;FMTTYPE=image/jpeg:https://itcurated.com/infosecuritycalendar/wp-content/uploads/sites/33/2019/07/pexels-photo-207580.jpeg
ORGANIZER;CN="Data%20Connectors":MAILTO:INFO@DATACONNECTORS.COM
END:VEVENT
END:VCALENDAR