BEGIN:VCALENDAR
VERSION:2.0
PRODID:-//Info Security Calendar - ECPv5.16.4//NONSGML v1.0//EN
CALSCALE:GREGORIAN
METHOD:PUBLISH
X-WR-CALNAME:Info Security Calendar
X-ORIGINAL-URL:https://infosecuritycalendar.com
X-WR-CALDESC:Events for Info Security Calendar
BEGIN:VTIMEZONE
TZID:UTC
BEGIN:STANDARD
TZOFFSETFROM:+0000
TZOFFSETTO:+0000
TZNAME:UTC
DTSTART:20170101T000000
END:STANDARD
END:VTIMEZONE
BEGIN:VEVENT
DTSTART;TZID=UTC:20171214T081500
DTEND;TZID=UTC:20171214T170000
DTSTAMP:20260421T163335
CREATED:20171116T111142Z
LAST-MODIFIED:20171116T124025Z
UID:1342-1513239300-1513270800@infosecuritycalendar.com
SUMMARY:Data Connectors Ft. Lauderdale Tech-Security
DESCRIPTION:The Ft. Lauderdale Cyber Security Conference features several vendor exhibits and there will also be a bunch of IT Security educational speaker sessions discussing current tech-security issues such as cloud security\, email and social media security\, VoIP\, LAN security\, wireless security\, USB drives security & more. It is worth mentioning that these events are valid for CEU.
URL:https://infosecuritycalendar.com/event/data-connectors-ft-lauderdale-tech-security/
LOCATION:The Westin Fort Lauderdale\, 400 Corporate Drive\, Fort Lauderdale\, FL\, 33334\, United States
CATEGORIES:Conference
ATTACH;FMTTYPE=image/jpeg:https://itcurated.com/infosecuritycalendar/wp-content/uploads/sites/33/2017/11/homeSlider1.jpg
ORGANIZER;CN="Data%20Connectors":MAILTO:INFO@DATACONNECTORS.COM
END:VEVENT
END:VCALENDAR