BEGIN:VCALENDAR
VERSION:2.0
PRODID:-//Info Security Calendar - ECPv5.16.4//NONSGML v1.0//EN
CALSCALE:GREGORIAN
METHOD:PUBLISH
X-WR-CALNAME:Info Security Calendar
X-ORIGINAL-URL:https://infosecuritycalendar.com
X-WR-CALDESC:Events for Info Security Calendar
BEGIN:VTIMEZONE
TZID:UTC
BEGIN:STANDARD
TZOFFSETFROM:+0000
TZOFFSETTO:+0000
TZNAME:UTC
DTSTART:20230101T000000
END:STANDARD
END:VTIMEZONE
BEGIN:VEVENT
DTSTART;TZID=UTC:20230119T080000
DTEND;TZID=UTC:20230119T183000
DTSTAMP:20260425T183142
CREATED:20221216T190353Z
LAST-MODIFIED:20221217T190946Z
UID:32194-1674115200-1674153000@infosecuritycalendar.com
SUMMARY:Data Connectors Cybersecurity Conference
DESCRIPTION:In cybersecurity\, information sharing is critical. One vulnerability can bring down government agencies\, businesses\, and critical infrastructure. \nThe Columbus Cybersecurity Conference is connecting the region’s top security professionals\, with topics ranging from leadership best practices on delegation\, setting metrics\, training\, and building effective teams to protect your organization from advanced threat actors. Other topics include effective incident response and strategies in cybersecurity resilience.
URL:https://infosecuritycalendar.com/event/data-connectors-cybersecurity-conference/
LOCATION:Hyatt Regency Columbus\, 350 N High St.\, Columbus\, OH\, 43215\, United States
CATEGORIES:Conference
ATTACH;FMTTYPE=image/jpeg:https://itcurated.com/infosecuritycalendar/wp-content/uploads/sites/33/2022/12/image-from-rawpixel-id-3111507-jpeg-1.jpg
ORGANIZER;CN="Data%20Connectors":MAILTO:info@dataconnectors.com
END:VEVENT
END:VCALENDAR