BEGIN:VCALENDAR
VERSION:2.0
PRODID:-//Info Security Calendar - ECPv5.16.4//NONSGML v1.0//EN
CALSCALE:GREGORIAN
METHOD:PUBLISH
X-WR-CALNAME:Info Security Calendar
X-ORIGINAL-URL:https://infosecuritycalendar.com
X-WR-CALDESC:Events for Info Security Calendar
BEGIN:VTIMEZONE
TZID:UTC
BEGIN:STANDARD
TZOFFSETFROM:+0000
TZOFFSETTO:+0000
TZNAME:UTC
DTSTART:20230101T000000
END:STANDARD
END:VTIMEZONE
BEGIN:VEVENT
DTSTART;TZID=UTC:20230727T080000
DTEND;TZID=UTC:20230727T183000
DTSTAMP:20260420T002107
CREATED:20230505T125237Z
LAST-MODIFIED:20230505T125308Z
UID:32813-1690444800-1690482600@infosecuritycalendar.com
SUMMARY:Data Connectors Cybersecurity Conference Orange County
DESCRIPTION:As security experts in the local community continue to navigate the ever-changing landscape\, you can ensure you’re on the leading edge by joining your peers at the Orange County Cybersecurity Conference. Sit alongside fellow IT and cyber executives as you hear from experts in both the public and private sectors\, offering vital on how move your organization through the latest threats. \nThrough interactive sessions\, Q&A panels\, and keynotes led by industry thought leaders and luminaries\, the Los Angeles Cybersecurity Conference will allow you to gain the needed insights to prepare your team for the inevitable. Meet face-to-face with cyber solution providers to ensure your organization is protected and take advantage of several networking opportunities throughout the full-day conference.
URL:https://infosecuritycalendar.com/event/data-connectors-cybersecurity-conference-orange-county/
LOCATION:Orange County\, Orange County\, CA\, United States
CATEGORIES:Conference
ATTACH;FMTTYPE=image/png:https://itcurated.com/infosecuritycalendar/wp-content/uploads/sites/33/2023/05/hacker-1944673_1280.png
ORGANIZER;CN="Data%20Connectors":MAILTO:INFO@DATACONNECTORS.COM
END:VEVENT
END:VCALENDAR