BEGIN:VCALENDAR
VERSION:2.0
PRODID:-//Info Security Calendar - ECPv5.16.4//NONSGML v1.0//EN
CALSCALE:GREGORIAN
METHOD:PUBLISH
X-WR-CALNAME:Info Security Calendar
X-ORIGINAL-URL:https://infosecuritycalendar.com
X-WR-CALDESC:Events for Info Security Calendar
BEGIN:VTIMEZONE
TZID:UTC
BEGIN:STANDARD
TZOFFSETFROM:+0000
TZOFFSETTO:+0000
TZNAME:UTC
DTSTART:20180101T000000
END:STANDARD
END:VTIMEZONE
BEGIN:VEVENT
DTSTART;TZID=UTC:20180604T080000
DTEND;TZID=UTC:20180606T170000
DTSTAMP:20260425T154335
CREATED:20180511T105601Z
LAST-MODIFIED:20180511T105601Z
UID:1676-1528099200-1528304400@infosecuritycalendar.com
SUMMARY:Cyber:Secured Forum
DESCRIPTION:Cyber:Secured Forum delivers two days of in-depth content on cybersecurity trends and best practices related to the delivery of physical security systems and other integrated systems. Collaboratively developed by SIA and PSA Security Network’s education teams\, sessions will feature top cybersecurity leaders\, while sponsor exhibits will showcase solutions related to cybersecurity\, integrated systems and physical security solutions. \nThis inaugural event will provide leaders in the IT and physical security industries ample opportunities to connect and share information on risks and liabilities\, responding to cybersecurity threats\, and establishing security control standards across IT systems and particularly when integrating physical security solutions and devices on IT networks.
URL:https://infosecuritycalendar.com/event/cybersecured-forum/
LOCATION:Sheraton Denver Downtown Hotel\, 1550 Court Pl\, Denver\, CO\, 80202\, United States
CATEGORIES:Conference
ATTACH;FMTTYPE=image/jpeg:https://itcurated.com/infosecuritycalendar/wp-content/uploads/sites/33/2018/05/nasa-43563-min.jpg
ORGANIZER;CN="ISC%20Security%20Events":MAILTO:inquiry@isc.reedexpo.com
END:VEVENT
END:VCALENDAR