BEGIN:VCALENDAR
VERSION:2.0
PRODID:-//Info Security Calendar - ECPv5.16.4//NONSGML v1.0//EN
CALSCALE:GREGORIAN
METHOD:PUBLISH
X-WR-CALNAME:Info Security Calendar
X-ORIGINAL-URL:https://infosecuritycalendar.com
X-WR-CALDESC:Events for Info Security Calendar
BEGIN:VTIMEZONE
TZID:UTC
BEGIN:STANDARD
TZOFFSETFROM:+0000
TZOFFSETTO:+0000
TZNAME:UTC
DTSTART:20170101T000000
END:STANDARD
END:VTIMEZONE
BEGIN:VEVENT
DTSTART;VALUE=DATE:20170116
DTEND;VALUE=DATE:20170117
DTSTAMP:20260422T121347
CREATED:20170110T115815Z
LAST-MODIFIED:20170110T120022Z
UID:609-1484524800-1484611199@infosecuritycalendar.com
SUMMARY:BSides Columbus 2017
DESCRIPTION:Each BSides is a community-driven framework for building events for and by information security community members. \nThe goal is to expand the spectrum of conversation beyond the traditional confines of space and time.  It creates opportunities for individuals to both present and participate in an intimate atmosphere that encourages collaboration. It is an intense event with discussions\, demos\, and interaction from participants. It is where conversations for the next-big-thing are happening.
URL:https://infosecuritycalendar.com/event/bsides-columbus-2017/
LOCATION:Columbus\, OH\, United States
CATEGORIES:Conference
ATTACH;FMTTYPE=image/png:https://itcurated.com/infosecuritycalendar/wp-content/uploads/sites/33/2017/01/14.png
END:VEVENT
END:VCALENDAR