BEGIN:VCALENDAR
VERSION:2.0
PRODID:-//Info Security Calendar - ECPv5.16.4//NONSGML v1.0//EN
CALSCALE:GREGORIAN
METHOD:PUBLISH
X-WR-CALNAME:Info Security Calendar
X-ORIGINAL-URL:https://infosecuritycalendar.com
X-WR-CALDESC:Events for Info Security Calendar
BEGIN:VTIMEZONE
TZID:UTC
BEGIN:STANDARD
TZOFFSETFROM:+0000
TZOFFSETTO:+0000
TZNAME:UTC
DTSTART:20230101T000000
END:STANDARD
END:VTIMEZONE
BEGIN:VEVENT
DTSTART;TZID=UTC:20231130T080000
DTEND;TZID=UTC:20231130T170000
DTSTAMP:20260426T041753
CREATED:20230904T234825Z
LAST-MODIFIED:20230904T234825Z
UID:32956-1701331200-1701363600@infosecuritycalendar.com
SUMMARY:Atlanta Cybersecurity Conference
DESCRIPTION:In cybersecurity\, information sharing is critical. One vulnerability can bring down government agencies\, businesses\, and critical infrastructure. \nThe Atlanta Cybersecurity Conference is connecting the region’s top security professionals\, with topics ranging from leadership best practices on delegation\, setting metrics\, training\, and building effective teams to protect your organization from advanced threat actors. Other topics include effective incident response and strategies in cybersecurity resilience. \nJoin us at the Atlanta Cybersecurity Conference to earn CPE credits and enjoy a networking reception with peers!
URL:https://infosecuritycalendar.com/event/atlanta-cybersecurity-conference-3/
CATEGORIES:Conference
ATTACH;FMTTYPE=image/jpeg:https://itcurated.com/infosecuritycalendar/wp-content/uploads/sites/33/2023/09/AdobeStock_195573466.jpeg
ORGANIZER;CN="Data%20Connectors":MAILTO:INFO@DATACONNECTORS.COM
END:VEVENT
END:VCALENDAR