BEGIN:VCALENDAR
VERSION:2.0
PRODID:-//Info Security Calendar - ECPv5.16.4//NONSGML v1.0//EN
CALSCALE:GREGORIAN
METHOD:PUBLISH
X-WR-CALNAME:Info Security Calendar
X-ORIGINAL-URL:https://infosecuritycalendar.com
X-WR-CALDESC:Events for Info Security Calendar
BEGIN:VTIMEZONE
TZID:UTC
BEGIN:STANDARD
TZOFFSETFROM:+0000
TZOFFSETTO:+0000
TZNAME:UTC
DTSTART:20170101T000000
END:STANDARD
END:VTIMEZONE
BEGIN:VEVENT
DTSTART;TZID=UTC:20170406T080000
DTEND;TZID=UTC:20170406T180000
DTSTAMP:20260422T044256
CREATED:20170222T130822Z
LAST-MODIFIED:20170222T130822Z
UID:702-1491465600-1491501600@infosecuritycalendar.com
SUMMARY:Atlanta Cyber Security Summit
DESCRIPTION:The Cyber Security Summit\, an exclusive C-Suite conference series\, connects senior level executives responsible for protecting their companies’ critical infrastructures with innovative solution providers and renowned information security experts. \nThis educational and informational forum will focus on educating attendees on how to best protect highly vulnerable business applications and critical infrastructure. Attendees will have the opportunity to meet the nation’s leading solution providers and discover the latest products and services for enterprise cyber defense.
URL:https://infosecuritycalendar.com/event/atlanta-cyber-security-summit/
LOCATION:The Ritz-Carlton Buckhead\, 3434 Peachtree Rd\, Atlanta\, GA\, 30326\, United States
CATEGORIES:Event
ATTACH;FMTTYPE=image/jpeg:https://itcurated.com/infosecuritycalendar/wp-content/uploads/sites/33/2017/02/atlanta2.jpg
END:VEVENT
END:VCALENDAR