BEGIN:VCALENDAR
VERSION:2.0
PRODID:-//Info Security Calendar - ECPv5.16.4//NONSGML v1.0//EN
CALSCALE:GREGORIAN
METHOD:PUBLISH
X-WR-CALNAME:Info Security Calendar
X-ORIGINAL-URL:https://infosecuritycalendar.com
X-WR-CALDESC:Events for Info Security Calendar
BEGIN:VTIMEZONE
TZID:UTC
BEGIN:STANDARD
TZOFFSETFROM:+0000
TZOFFSETTO:+0000
TZNAME:UTC
DTSTART:20200101T000000
END:STANDARD
END:VTIMEZONE
BEGIN:VEVENT
DTSTART;VALUE=DATE:20200901
DTEND;VALUE=DATE:20200903
DTSTAMP:20260425T001301
CREATED:20200427T082740Z
LAST-MODIFIED:20200427T082809Z
UID:3755-1598918400-1599091199@infosecuritycalendar.com
SUMMARY:Ai4 2020
DESCRIPTION:Over two days\, Ai4 2020 brings together business leaders and data practitioners to facilitate the adoption of artificial intelligence and machine learning technology. Join us at industry’s most impactful AI event. \nWith a use-case oriented approach to content\, we deliver actionable insights from those working on the frontlines of AI in the enterprise. We provide a common framework for thinking about what AI means to the each industry and deliver content that progresses understanding at any stage of an organization’s AI journey. Welcome to our community!
URL:https://infosecuritycalendar.com/event/ai4-2020/
LOCATION:MGM Grand\, 3799 S Las Vegas Blvd\, Las Vegas\, NV\, 89109\, United States
CATEGORIES:Conference
ATTACH;FMTTYPE=image/jpeg:https://itcurated.com/infosecuritycalendar/wp-content/uploads/sites/33/2020/04/binary-2302728_1280.jpg
END:VEVENT
END:VCALENDAR