BEGIN:VCALENDAR
VERSION:2.0
PRODID:-//Info Security Calendar - ECPv5.16.4//NONSGML v1.0//EN
CALSCALE:GREGORIAN
METHOD:PUBLISH
X-WR-CALNAME:Info Security Calendar
X-ORIGINAL-URL:https://infosecuritycalendar.com
X-WR-CALDESC:Events for Info Security Calendar
BEGIN:VTIMEZONE
TZID:UTC
BEGIN:STANDARD
TZOFFSETFROM:+0000
TZOFFSETTO:+0000
TZNAME:UTC
DTSTART:20220101T000000
END:STANDARD
END:VTIMEZONE
BEGIN:VEVENT
DTSTART;VALUE=DATE:20220525
DTEND;VALUE=DATE:20220527
DTSTAMP:20260425T132500
CREATED:20220428T142926Z
LAST-MODIFIED:20220428T142926Z
UID:31454-1653436800-1653609599@infosecuritycalendar.com
SUMMARY:6th Intelligence Exploitation Summit
DESCRIPTION:The 6th Intelligence Exploitation Summit will address the continuing efforts of the IC to create shared systems in an effort to increase cross-agency collaboration as well as eliminate redundancies and inefficiencies in IT management and policy. Intelligence leaders will also highlight the shift to the cloud as an improved method of data sharing and enhanced way of securing sensitive information. Additionally\, a panel of experts will discuss the role of emerging technology in enhancing the push toward OSINT.
URL:https://infosecuritycalendar.com/event/6th-intelligence-exploitation-summit/
LOCATION:The Sunset Room\, 137 National Plaza #200\, Oxon Hill\, MD\, 20745\, United States
CATEGORIES:Conference
ATTACH;FMTTYPE=image/jpeg:https://itcurated.com/infosecuritycalendar/wp-content/uploads/sites/33/2022/04/markus-spiske-Skf7HxARcoc-unsplash.jpg
END:VEVENT
END:VCALENDAR